BEGIN:VCALENDAR
VERSION:2.0
PRODID:-//Katrin Ebner-Steiner - ECPv6.15.19//NONSGML v1.0//EN
CALSCALE:GREGORIAN
METHOD:PUBLISH
X-WR-CALNAME:Katrin Ebner-Steiner
X-ORIGINAL-URL:https://katrin-ebner-steiner.de
X-WR-CALDESC:Veranstaltungen für Katrin Ebner-Steiner
REFRESH-INTERVAL;VALUE=DURATION:PT1H
X-Robots-Tag:noindex
X-PUBLISHED-TTL:PT1H
BEGIN:VTIMEZONE
TZID:UTC
BEGIN:STANDARD
TZOFFSETFROM:+0000
TZOFFSETTO:+0000
TZNAME:UTC
DTSTART:20210101T000000
END:STANDARD
END:VTIMEZONE
BEGIN:VTIMEZONE
TZID:Europe/Berlin
BEGIN:DAYLIGHT
TZOFFSETFROM:+0100
TZOFFSETTO:+0200
TZNAME:CEST
DTSTART:20200329T010000
END:DAYLIGHT
BEGIN:STANDARD
TZOFFSETFROM:+0200
TZOFFSETTO:+0100
TZNAME:CET
DTSTART:20201025T010000
END:STANDARD
BEGIN:DAYLIGHT
TZOFFSETFROM:+0100
TZOFFSETTO:+0200
TZNAME:CEST
DTSTART:20210328T010000
END:DAYLIGHT
BEGIN:STANDARD
TZOFFSETFROM:+0200
TZOFFSETTO:+0100
TZNAME:CET
DTSTART:20211031T010000
END:STANDARD
BEGIN:DAYLIGHT
TZOFFSETFROM:+0100
TZOFFSETTO:+0200
TZNAME:CEST
DTSTART:20220327T010000
END:DAYLIGHT
BEGIN:STANDARD
TZOFFSETFROM:+0200
TZOFFSETTO:+0100
TZNAME:CET
DTSTART:20221030T010000
END:STANDARD
BEGIN:DAYLIGHT
TZOFFSETFROM:+0100
TZOFFSETTO:+0200
TZNAME:CEST
DTSTART:20230326T010000
END:DAYLIGHT
BEGIN:STANDARD
TZOFFSETFROM:+0200
TZOFFSETTO:+0100
TZNAME:CET
DTSTART:20231029T010000
END:STANDARD
END:VTIMEZONE
BEGIN:VEVENT
DTSTART;TZID=UTC:20230129T090000
DTEND;TZID=UTC:20230129T170000
DTSTAMP:20260412T092043
CREATED:20230127T161411Z
LAST-MODIFIED:20230127T161411Z
UID:17804-1674982800-1675011600@katrin-ebner-steiner.de
SUMMARY:Aufstellungsversammlung Sonntag 29.01.2023
DESCRIPTION:+++ liche Einladung zur Aufstellungsversammlung +++\n\n\nDiesen Sonntag brauchen wir Eure Unterstützung. \nBitte vergesst nicht den Mitglieds- und Personalausweis / oder Reisepass mit Meldebescheinigung.\n\n\nEure Katrin
URL:https://katrin-ebner-steiner.de/veranstaltungen/aufstellungsversammlung-sonntag-29-01-2023/
LOCATION:Osterhofen Stadthalle\, Seewiesen 1\, Osterhofen\, Bayern\, 94486
CATEGORIES:Aufstellungsversammlung
ORGANIZER;CN="AfD Kreisverband Deggendorf":MAILTO:kv.deg@afdbayern.de
END:VEVENT
BEGIN:VEVENT
DTSTART;TZID=UTC:20230125T090000
DTEND;TZID=UTC:20230125T170000
DTSTAMP:20260412T092043
CREATED:20230112T093353Z
LAST-MODIFIED:20230112T093353Z
UID:17786-1674637200-1674666000@katrin-ebner-steiner.de
SUMMARY:Landtagsfahrt 25.01.2023
DESCRIPTION:Herzliche Einladung zur nächsten gemeinsamen Fahrt in den Landtag! \nMittwoch  25 . Januar 2023 \n  \nAbfahrt Deggendorf Busbahnhof 9.15h \n\nZugang 9.55h  Autobahnausfahrt Dingolfing Ost P+R\nZugang 10.30h  Ergolding Festplatz \,  Festplatzstrasse am Hotel Rosenhof.\n\n  \nAnkunft Landtag  ca 12. 00h -12.30h \n  \nAnmeldung bitte unter angehefteten Link. Danke \nhttps://www.facebook.com/Ebner.Steiner.Katrin/photos/a.1074620185902481/6181300438567738/
URL:https://katrin-ebner-steiner.de/veranstaltungen/landtagsfahrt-25-01-2023/
LOCATION:Bayerische Landtag München
CATEGORIES:Landtagsfahrt
END:VEVENT
BEGIN:VEVENT
DTSTART;TZID=UTC:20221212T150000
DTEND;TZID=UTC:20221212T170000
DTSTAMP:20260412T092043
CREATED:20221207T073839Z
LAST-MODIFIED:20221207T073839Z
UID:17743-1670857200-1670864400@katrin-ebner-steiner.de
SUMMARY:Weihnachtscafè Montag 12.12.2022
DESCRIPTION:Herzliche Einladung\n\nKommt nächsten Montag (12.12.2022) von 15 bis 17 Uhr zum Weihnachtscafé in mein Bürgerbüro in Deggendorf (Östlicher Stadtgraben 37).\n\n\nWir sehen uns auf einen gemütlichen Ratsch bei Kaffee\, Plätzchen und Glühwein. \n\n\nBis bald\nEure Katrin
URL:https://katrin-ebner-steiner.de/veranstaltungen/weihnachtscafe-montag-12-12-2022/
LOCATION:Bürgerbüro Östlicher Stadtgraben 37 Deggendorf\, Östlicher Stadtgraben 37\, Deggendorf
CATEGORIES:Bürgerbüro Deggendorf
ORGANIZER;CN="AfD Kreisverband Deggendorf":MAILTO:kv.deg@afdbayern.de
END:VEVENT
BEGIN:VEVENT
DTSTART;TZID=UTC:20221018T150000
DTEND;TZID=UTC:20221018T170000
DTSTAMP:20260412T092043
CREATED:20221016T134041Z
LAST-MODIFIED:20221016T134041Z
UID:17672-1666105200-1666112400@katrin-ebner-steiner.de
SUMMARY:Kaffe und Kuchen Bürgersprechstunde Teisnach 18.Oktober 2022
DESCRIPTION:  \nWir freuen uns auf Euch!  \n  \nhttps://www.facebook.com/Ebner.Steiner.Katrin/photos/a.1074620185902481/5908832475814537/
URL:https://katrin-ebner-steiner.de/veranstaltungen/kaffe-und-kuchen-buergersprechstunde-teisnach-18-oktober-2022/
LOCATION:Bürgerbüro Teisnach Bahnhofstrasse 6\, Bahnhofstrasse 6\, Teisnach
CATEGORIES:Bürgerbüro Teisnach
END:VEVENT
BEGIN:VEVENT
DTSTART;TZID=UTC:20221017T103000
DTEND;TZID=UTC:20221017T130000
DTSTAMP:20260412T092043
CREATED:20221017T081326Z
LAST-MODIFIED:20221017T081326Z
UID:17674-1666002600-1666011600@katrin-ebner-steiner.de
SUMMARY:Infostand Deggendorf 17.10.2022 um 10.30h
DESCRIPTION:Kommt heute ab 10.30 Uhr in Deggendorf am Luitpoldplatz 15 vorbei! Wir freuen uns auf Euch!\n\n\nEure Katrin & Team\n\n\n#KES #TeamKES #AfD
URL:https://katrin-ebner-steiner.de/veranstaltungen/infostand-deggendorf-17-10-2022-um-10-30h/
LOCATION:Deggendorf Luipoldplatz vor H&M\, Deggendorf
CATEGORIES:Infostand
END:VEVENT
BEGIN:VEVENT
DTSTART;TZID=UTC:20221014T103000
DTEND;TZID=UTC:20221014T123000
DTSTAMP:20260412T092043
CREATED:20221012T141314Z
LAST-MODIFIED:20221012T141314Z
UID:17667-1665743400-1665750600@katrin-ebner-steiner.de
SUMMARY:Infostand Freitag 14.10.2022  10.30 Uhr Luitpoldplatz Deggendorf
DESCRIPTION:Kommt diesen Freitag ab 10.30 Uhr in Deggendorf am Luitpoldplatz vorbei! Wir freuen uns auf Euch!\n\n\nEure Katrin & Team\n\n\n#KES #TeamKES #AfD
URL:https://katrin-ebner-steiner.de/veranstaltungen/infostand-freitag-14-10-2022-10-30-uhr-luitpoldplatz-deggendorf/
LOCATION:Deggendorf Luipoldplatz vor H&M\, Deggendorf
CATEGORIES:Infostand
END:VEVENT
BEGIN:VEVENT
DTSTART;TZID=UTC:20221012T184500
DTEND;TZID=UTC:20221012T203000
DTSTAMP:20260412T092043
CREATED:20221012T140348Z
LAST-MODIFIED:20221012T140348Z
UID:17665-1665600300-1665606600@katrin-ebner-steiner.de
SUMMARY:124. Plenarsitzung des Bayerischen Landtags meine Rede
DESCRIPTION:124. Plenarsitzung des Bayerischen Landtags\n\n\nMeine Rede zur Inflation heute ab ca. 18:45 Uhr auf www.bayern.landtag.de live im Stream\n\n\n#KES #AfD #unserLandzuerst
URL:https://katrin-ebner-steiner.de/veranstaltungen/124-plenarsitzung-des-bayerischen-landtags-meine-rede/
LOCATION:Bayern
CATEGORIES:Plenarsitzung Livestream
END:VEVENT
BEGIN:VEVENT
DTSTART;TZID=UTC:20220804T103000
DTEND;TZID=UTC:20220804T123000
DTSTAMP:20260412T092043
CREATED:20220801T085636Z
LAST-MODIFIED:20220801T085636Z
UID:17493-1659609000-1659616200@katrin-ebner-steiner.de
SUMMARY:Infostand am 04. August 2022 in Deggendorf
DESCRIPTION:+++ Kommt am Donnerstag\, den 4. August vorbei zum nächsten Infostand +++\n\n\nWir freuen uns auf Euren Besuch!\n\n\nWo?\nDeggendorf\, Luitpoldplatz (vor dem H&M)\n\n\nUhrzeit?\nAb 10.30 Uhr\n\n\n#KES #AfD #fürEuchvorOrt #TeamKES #NiederbayernimHerzen
URL:https://katrin-ebner-steiner.de/veranstaltungen/infostand-am-04-august-2022-in-deggendorf/
LOCATION:Deggendorf Luipoldplatz vor H&M\, Deggendorf
CATEGORIES:Infostand
END:VEVENT
BEGIN:VEVENT
DTSTART;TZID=UTC:20220722T100000
DTEND;TZID=UTC:20220722T113000
DTSTAMP:20260412T092043
CREATED:20220720T141615Z
LAST-MODIFIED:20220720T141615Z
UID:17474-1658484000-1658489400@katrin-ebner-steiner.de
SUMMARY:Infostand Deggendorf Freitag 22.Juli 2022
DESCRIPTION:Kommt vorbei\, wir freuen uns auf Euren Besuch!\n\n\nFreitag\, 22.7.2022\nab 10 Uhr\nIn Deggendorf\, Luitpoldplatz (vor dem H&M)\n\n\n#KES #TeamKES #AfD
URL:https://katrin-ebner-steiner.de/veranstaltungen/infostand-deggendorf-freitag-22-juli-2022/
LOCATION:Deggendorf Luipoldplatz vor H&M\, Deggendorf
CATEGORIES:Infostand
END:VEVENT
BEGIN:VEVENT
DTSTART;TZID=UTC:20220721T080000
DTEND;TZID=UTC:20220721T170000
DTSTAMP:20260412T092043
CREATED:20220530T083716Z
LAST-MODIFIED:20220630T091505Z
UID:17361-1658390400-1658422800@katrin-ebner-steiner.de
SUMMARY:Landtagsfahrt mit historischer Stadtführung 21.07.2022
DESCRIPTION:+++ liche Einladung in den Landtag mit historischer Stadtführung +++\n\n\nSchaut am 21. Juli 2022 hinter die Kulissen im Bayerischen Landtag und der AfD-Fraktion.\nWir fahren gemeinsam nach München und essen zusammen\, außerdem gibt es eine historische Stadtführung.\n\n\nMeldet Euch unter der Email Adresse\nbuero-ebner-steiner@afd-landtag.bayern\nan!\n\n\nIch freue mich!\n\n\nEure Katrin\n\n\n__________________\n\n\nFolgt meinem Kanal:\n\n\nt.me/EbnerSteiner
URL:https://katrin-ebner-steiner.de/veranstaltungen/landtagsfahrt-mit-historischer-stadtfuehrung-21-07-2022/
LOCATION:Bayern
CATEGORIES:Landtagsfahrt
END:VEVENT
BEGIN:VEVENT
DTSTART;TZID=UTC:20220701T160000
DTEND;TZID=UTC:20220701T173000
DTSTAMP:20260412T092043
CREATED:20220630T103302Z
LAST-MODIFIED:20220630T103302Z
UID:17414-1656691200-1656696600@katrin-ebner-steiner.de
SUMMARY:Eröffnung Bürgerbüro in Teisnach
DESCRIPTION:+++ Herzliche Einladung +++ \nAm Freitag\, den 1. Juli eröffne Euch mein 3. Bürgerbüro in Teisnach. \nIch freue mich auf Euch! \n#KES #AfD
URL:https://katrin-ebner-steiner.de/veranstaltungen/eroeffnung-buergerbuero-in-teisnach/
LOCATION:Bürgerbüro Teisnach Bahnhofstrasse 6\, Bahnhofstrasse 6\, Teisnach
CATEGORIES:Bürgerbüro Teisnach
END:VEVENT
BEGIN:VEVENT
DTSTART;TZID=UTC:20220604T100000
DTEND;TZID=UTC:20220604T120000
DTSTAMP:20260412T092043
CREATED:20220602T084927Z
LAST-MODIFIED:20220602T084927Z
UID:17369-1654336800-1654344000@katrin-ebner-steiner.de
SUMMARY:Weisswurst-Frühshoppen
DESCRIPTION:Herzliche Einladung zum Weißwurst-Frühschoppen mit Dirk Spaniel\, MdB am 4. Juni ab 10 Uhr bis 12.Uhr \nGasthof Hopf in Egg \n  \n 
URL:https://katrin-ebner-steiner.de/veranstaltungen/weisswurst-fruehshoppen/
LOCATION:Bayern
CATEGORIES:Weisswurst Frühshoppen
ORGANIZER;CN="AfD Kreisverband Deggendorf":MAILTO:kv.deg@afdbayern.de
END:VEVENT
BEGIN:VEVENT
DTSTART;TZID=Europe/Berlin:20220503T090000
DTEND;TZID=Europe/Berlin:20220503T203000
DTSTAMP:20260412T092043
CREATED:20220503T070347Z
LAST-MODIFIED:20220503T070347Z
UID:17315-1651568400-1651609800@katrin-ebner-steiner.de
SUMMARY:Info Tour zur Landratswahl
DESCRIPTION:+++ Meine Info-Tour zur Landratswahl +++\n\n\nHeute geht’s los!\n\n\n9 Uhr\, Stephansposching\n10.30 Uhr\, Otzing\n12 Uhr\, Plattling\n14 Uhr\, Moos\n15.30 Uhr\, Aholming\n17 Uhr\, Buchhofen\n18.30 Uhr\, Wallerfing\n19.30 Uhr\, Oberpöring\n\n\nIch freue mich auf Euch:)
URL:https://katrin-ebner-steiner.de/veranstaltungen/info-tour-zur-landratswahl/
LOCATION:Bayern
CATEGORIES:Info Tour
END:VEVENT
BEGIN:VEVENT
DTSTART;TZID=Europe/Berlin:20220501T173000
DTEND;TZID=Europe/Berlin:20220501T190000
DTSTAMP:20260412T092043
CREATED:20220422T100430Z
LAST-MODIFIED:20220422T100430Z
UID:17290-1651426200-1651431600@katrin-ebner-steiner.de
SUMMARY:Kundgebung am 1. Mai 2022
DESCRIPTION:Wir freuen uns auf Euch! \nBis Sonntag\, 17.30 Uhr am Stadtplatz in Deggendorf!
URL:https://katrin-ebner-steiner.de/veranstaltungen/kundgebung-am-1-mai-2022/
LOCATION:Oberer Stadtplatz in Deggemdorf\, Oberer Stadtplatz\, Deggendorf\, bayern
CATEGORIES:Kundgebung
ORGANIZER;CN="AfD Kreisverband Deggendorf":MAILTO:kv.deg@afdbayern.de
END:VEVENT
BEGIN:VEVENT
DTSTART;TZID=Europe/Berlin:20220428T183000
DTEND;TZID=Europe/Berlin:20220428T210000
DTSTAMP:20260412T092043
CREATED:20220421T074424Z
LAST-MODIFIED:20220426T083139Z
UID:17280-1651170600-1651179600@katrin-ebner-steiner.de
SUMMARY:Bürgerdialog am 28.04.2022
DESCRIPTION:Wie geht es weiter? Was kommt auf uns zu? Diese Fragen brennen dieser Tage einigen von uns unter den Nägeln.\nDiskutieren Sie mit unseren niederbayerischen Abgeordneten Ralf Stadler\, Katrin Ebner-Steiner\, Oskar Atzinger und weiteren Gästen über aktuelle Themen wie die Hyperinflation\, steigende Lebensmittel und Lebensunterhaltskosten\, Krieg in Europa und die Auswirkungen von Corona auf unsere Kinder.\nInformieren Sie sich über unsere Ziele und unsere Arbeit im Bayerischen Landtag!\n\n\nWann: am Donnerstag\, den 28.04.2022\nUhrzeit: ab 18:30 Uhr\nWo: Taverne beim Griechen in Deggendorf\n\n\nWir freuen uns auf Eure Teilnahme und über Eure Fragen!\n\nRalf Stadler \nOskar Atzinger \nKatrin Ebner-Steiner \n  \nAnmeldung unter \neinladung@afd-landtag.bayern \n089- 4126 2960. \n  \n 
URL:https://katrin-ebner-steiner.de/veranstaltungen/buergerdialog-am-28-04-2022/
LOCATION:Taverne zum Griechen in Deggendorf\, Herngersbergerstrasse 31\, Deggendorf\, bayern\, 94469\, Deutschland
CATEGORIES:Bürgerdialog
END:VEVENT
BEGIN:VEVENT
DTSTART;TZID=Europe/Berlin:20220409T160000
DTEND;TZID=Europe/Berlin:20220409T190000
DTSTAMP:20260412T092043
CREATED:20220331T103112Z
LAST-MODIFIED:20220408T071657Z
UID:17234-1649520000-1649530800@katrin-ebner-steiner.de
SUMMARY:Starkbierfest
DESCRIPTION:Am 09.04.22 findet ab 16:00 Uhr in der Stadthalle Osterhofen das traditionelle Starkbierfest der AfD Deggendorf statt. Als Redner werden neben der Landratskandidatin und Landtagsabgeordneten Katrin Ebner-Steiner auch der Europaabgeodnete und Dresdner Oberbürgermeisterkandidat Maximilian Krah\, der Landesvorsitzende der AfD Bayern und Bundestagsabgeordnete Stephan Protschka\, der Landtagsabgeordnete und Dillinger Oberbürgermeisterkandidat Christoph Maier\, der Landtagsabgeordnete Stefan Löw sowie die Stadträtin Petra Weileder sprechen. \n  \nHierzu äußert sich die Landratskandidatin und Deggendorfer Kreisvorsitzende\, Katrin Ebner-Steiner\, MdL\, wie folgt: \n  \n„Mit unserem Starkbierfest in Osterhofen hat die AfD Deggendorf ihren ersten großen Auftritt im neuen Jahr. Damit läuten wir das Ende der meisten Corona-Maßnahmen ein. Ich freue mich\, dass wir als Kreisverband großartige Redner gewinnen konnten. Sie werden uns einen vielfältigen Einblick in die gravierenden Herausforderungen geben\, denen sich Deutschland auf allen politischen Ebenen stellen muss. \n  \nAuch im Landkreis steht die Neuwahl des Landrates an. Der ehemalige Landrat Bernreiter hat uns den zweithöchsten Schuldenstand in ganz Bayern und eine gespaltene Bürgerschaft hinterlassen. Hier möchte ich wieder vereinigen\, die Herausforderungen anpacken und konkrete Lösungen anbieten: Mit einer schlanken\, bürgernahen Verwaltung\, soliden Finanzen im Kreis\, einer besseren Gesundheitsvorsorge sowie Sicherheit und Schutz unserer Heimat. \n  \nAlle interessierten Bürger lade ich hierzu herzlich ein. Selbstverständlich ist die ‚erste Hoibe‘ kostenfrei.“ \n  \n 
URL:https://katrin-ebner-steiner.de/veranstaltungen/starkbierfest/
LOCATION:Bayern
CATEGORIES:Starkbierfest
END:VEVENT
BEGIN:VEVENT
DTSTART;TZID=Europe/Berlin:20220310T190000
DTEND;TZID=Europe/Berlin:20220310T200000
DTSTAMP:20260412T092043
CREATED:20220309T080151Z
LAST-MODIFIED:20220309T080151Z
UID:17091-1646938800-1646942400@katrin-ebner-steiner.de
SUMMARY:ZOOM Der Verfassungsschutz
DESCRIPTION:liche Einladung zum Online-Vortrag\n\n\nThema: Der Verfassungsschutz – Das müssen wir wissen\n\n\nUhrzeit: Donnerstag\, 10.März.2022 19Uhr\n\n\nZoom-Meeting beitreten\n\n\nhttps://us02web.zoom.us/j/87563023536…\n\n\nMeeting-ID: 875 6302 3536\nKenncode: 231931\n\n\nSchnelleinwahl mobil\n+496938079883\,\,87563023536# Deutschland\n+496938079884\,\,87563023536# Deutschland\n\n\nEinwahl nach aktuellem Standort\n+49 69 3807 9883 Deutschland\n\n\nMeeting-ID: 875 6302 3536\n\n\nOrtseinwahl suchen: https://us02web.zoom.us/u/kqPArmqcA
URL:https://katrin-ebner-steiner.de/veranstaltungen/zoom-der-verfassungsschutz/
LOCATION:ZOOM\, online
CATEGORIES:Zoom online
ORGANIZER;CN="AfD Kreisverband Deggendorf":MAILTO:kv.deg@afdbayern.de
END:VEVENT
BEGIN:VEVENT
DTSTART;TZID=Europe/Berlin:20220310T090000
DTEND;TZID=Europe/Berlin:20220310T190000
DTSTAMP:20260412T092043
CREATED:20220310T095458Z
LAST-MODIFIED:20220310T095458Z
UID:17188-1646902800-1646938800@katrin-ebner-steiner.de
SUMMARY:Life Stream 107. Plenarsitzung
DESCRIPTION:107. Plenarsitzung des Bayerischen Landtags\n\n\nAb 09:00 Uhr auf https://www.bayern.landtag.de/aktu…/sitzungen/livestreams/ im LIVE STREAM\n\n\nHeute ab ca. 16 Uhr meine Rede zu den Spritpreisen.
URL:https://katrin-ebner-steiner.de/veranstaltungen/life-stream-107-plenarsitzung/
LOCATION:Bayern
CATEGORIES:Life Stream
END:VEVENT
BEGIN:VEVENT
DTSTART;TZID=Europe/Berlin:20220307T170000
DTEND;TZID=Europe/Berlin:20220307T190000
DTSTAMP:20260412T092043
CREATED:20220307T130322Z
LAST-MODIFIED:20220307T130322Z
UID:17077-1646672400-1646679600@katrin-ebner-steiner.de
SUMMARY:Infostand KV Straubing
DESCRIPTION:+++ KV Straubing: INFOSTAND heute\, Montag 07.03.2022 ab 17 Uhr +++\n\n\nHeute bin ich zu Besuch am Infostand des AfD Kreisverbandes Straubing. Kommt vorbei\, bis später!😊\n\n\nEure Katrin
URL:https://katrin-ebner-steiner.de/veranstaltungen/infostand-kv-straubing/
LOCATION:Fussgängerzone Straubin Ludwigsplatz 14\, Ludwigsplatz vor Hausnummer 14/16\, Straubing
CATEGORIES:Infostand
END:VEVENT
BEGIN:VEVENT
DTSTART;TZID=Europe/Berlin:20220214T170000
DTEND;TZID=Europe/Berlin:20220214T200000
DTSTAMP:20260412T092043
CREATED:20220210T111004Z
LAST-MODIFIED:20220210T111004Z
UID:17022-1644858000-1644868800@katrin-ebner-steiner.de
SUMMARY:Mobile Bürgersprechstunde Straubing
DESCRIPTION:Kommt am Montag \, den 14.02.2022 zwischen 17 und 20 Uhr zur Mobilen Bürgersprechstunde in die Fußgängerzone Ludwigsplatz nähe Modehaus Hafner in Straubing vorbei.\n\n\nDas Team KES freut sich auf Euren Besuch!
URL:https://katrin-ebner-steiner.de/veranstaltungen/mobile-buergersprechstunde-straubing/
LOCATION:Fussgängerzone Straubin Ludwigsplatz 14\, Ludwigsplatz vor Hausnummer 14/16\, Straubing
CATEGORIES:Bürgersprechstunde
ORGANIZER;CN="AfD Kreisverband Deggendorf":MAILTO:kv.deg@afdbayern.de
END:VEVENT
BEGIN:VEVENT
DTSTART;TZID=Europe/Berlin:20220213T120000
DTEND;TZID=Europe/Berlin:20220213T140000
DTSTAMP:20260412T092043
CREATED:20220211T102051Z
LAST-MODIFIED:20220211T102051Z
UID:17029-1644753600-1644760800@katrin-ebner-steiner.de
SUMMARY:Kundgebung München
DESCRIPTION:+++ Diesen Sonntag in München +++\nFreie Wahl für freie Bürger! Kundgebung für die Direktwahl des Bundespräsidenten:\nAm Sonntag\, den 13.2.2022 ab 12 Uhr an der Feldherrnhalle.\nIch freu mich auf Euch!\nEure Katrin
URL:https://katrin-ebner-steiner.de/veranstaltungen/kundgebung-muenchen/
LOCATION:Feldherrnhalle München\, Residenzstraße 1\, München\, 80333
CATEGORIES:Kundgebung
END:VEVENT
BEGIN:VEVENT
DTSTART;TZID=Europe/Berlin:20220212T170000
DTEND;TZID=Europe/Berlin:20220212T183000
DTSTAMP:20260412T092043
CREATED:20220203T093510Z
LAST-MODIFIED:20220205T114154Z
UID:16985-1644685200-1644690600@katrin-ebner-steiner.de
SUMMARY:Demo für Freiheit und einen Politikerwechsel
DESCRIPTION:MdL Katrin Ebner -Steiner \nPetr Bystrom \nDirk Spaniel \nFerdinand Mang \nChristoph Meier \n  \nhttps://www.facebook.com/photo/?fbid=5103404243005910&set=a.221134257899624
URL:https://katrin-ebner-steiner.de/veranstaltungen/demo-fuer-freiheit-und-einen-politikerwechsel/
LOCATION:Deggendorf\, Oberer Stadtplatz\, Deggendorf\, Deutschland
CATEGORIES:Demonstrationen
ORGANIZER;CN="AfD Kreisverband Deggendorf":MAILTO:kv.deg@afdbayern.de
END:VEVENT
BEGIN:VEVENT
DTSTART;TZID=Europe/Berlin:20220212T120000
DTEND;TZID=Europe/Berlin:20220212T140000
DTSTAMP:20260412T092043
CREATED:20220210T094806Z
LAST-MODIFIED:20220210T121915Z
UID:17013-1644667200-1644674400@katrin-ebner-steiner.de
SUMMARY:Kundgebung Dingolfing
DESCRIPTION:Am Samstag geht es rund. Erst Dingolfing\, dann Deggendorf! Für unsere Freiheit!  \n 
URL:https://katrin-ebner-steiner.de/veranstaltungen/kundgebung-dingolfing/
LOCATION:Dingolfing Caprima Parkplatz\, Caprima Parkplatz\, Dingolfing
CATEGORIES:Kundgebung
END:VEVENT
BEGIN:VEVENT
DTSTART;TZID=Europe/Berlin:20220206T150000
DTEND;TZID=Europe/Berlin:20220206T170000
DTSTAMP:20260412T092043
CREATED:20220204T160755Z
LAST-MODIFIED:20220205T114105Z
UID:16990-1644159600-1644166800@katrin-ebner-steiner.de
SUMMARY:Mobile Bürgersprechstunde Grafenau
DESCRIPTION:Kommt am Sonntag\, den 06.02.2022 zwischen 15 und 17 Uhr zur mobilen Bürgersprechstunde am Stadtplatz in Grafenau vorbei.\n\n\nDas Team KES freut sich auf Euren Besuch!
URL:https://katrin-ebner-steiner.de/veranstaltungen/infostand-grafenau/
LOCATION:Stadtplatz Südbereich Grafenau
CATEGORIES:Infostand
END:VEVENT
BEGIN:VEVENT
DTSTART;TZID=Europe/Berlin:20220203T190000
DTEND;TZID=Europe/Berlin:20220203T200000
DTSTAMP:20260412T092043
CREATED:20220203T091741Z
LAST-MODIFIED:20220203T091741Z
UID:16982-1643914800-1643918400@katrin-ebner-steiner.de
SUMMARY:Vortrag per Zoom
DESCRIPTION:  \n  \n  \n\nAm Donnerstag\, den 03.02.2022\, hält Dr. Rainer Rothfuß von 19-20 Uhr einen Vortrag per ZOOM zum Thema: „Migrationskrise an der polnischen Grenze und ihre geopolitische Einbettung: Symptom für Systemversagen!“\n\n\nIch freue mich auf zahlreiche Anmeldungen!\n\n\nUnter folgenden Anmeldedaten kann man sich dazu schalten:\n\n\nMeeting beitreten:\nhttps://us02web.zoom.us/j/83787396300…\n\n\nMeeting-ID: 837 8739 6300\nKenncode: 814719\n\n\nEinwahl nach aktuellem Standort\n+49 69 3807 9883 Deutschland\n\n  \n  \n 
URL:https://katrin-ebner-steiner.de/veranstaltungen/vortrag-per-zoom/
LOCATION:Bayern
END:VEVENT
BEGIN:VEVENT
DTSTART;TZID=Europe/Berlin:20220131T174500
DTEND;TZID=Europe/Berlin:20220131T190000
DTSTAMP:20260412T092043
CREATED:20220129T150400Z
LAST-MODIFIED:20220130T195241Z
UID:16971-1643651100-1643655600@katrin-ebner-steiner.de
SUMMARY:Mobiles Bürgerbüro  in Regen
DESCRIPTION:
URL:https://katrin-ebner-steiner.de/veranstaltungen/infostand-in-regen/
LOCATION:Regen Stadtplatz\, Stadtplatz 1\, Regen\, Bayern\, 94486\, Deutschland
CATEGORIES:Infostand
ORGANIZER;CN="AfD Kreisverband Deggendorf":MAILTO:kv.deg@afdbayern.de
END:VEVENT
BEGIN:VEVENT
DTSTART;TZID=Europe/Berlin:20220115T171500
DTEND;TZID=Europe/Berlin:20220115T191500
DTSTAMP:20260412T092043
CREATED:20220111T152529Z
LAST-MODIFIED:20220113T080622Z
UID:16926-1642266900-1642274100@katrin-ebner-steiner.de
SUMMARY:Infostand in Deggendorf
DESCRIPTION:
URL:https://katrin-ebner-steiner.de/veranstaltungen/infostand-in-deggendorf-2/
LOCATION:Deggendorf\, Oberer Stadtplatz\, Deggendorf\, Deutschland
CATEGORIES:Infostand
END:VEVENT
BEGIN:VEVENT
DTSTART;TZID=Europe/Berlin:20210201T080000
DTEND;TZID=Europe/Berlin:20210201T170000
DTSTAMP:20260412T092043
CREATED:20210111T011103Z
LAST-MODIFIED:20210413T081338Z
UID:15492-1612166400-1612198800@katrin-ebner-steiner.de
SUMMARY:Aktuell keine Veranstaltungen
DESCRIPTION:
URL:https://katrin-ebner-steiner.de/veranstaltungen/aktuell-keine-veranstaltungen-4/
LOCATION:Bayern
ATTACH;FMTTYPE=image/jpeg:https://katrin-ebner-steiner.de/wp-content/uploads/2021/01/corona-einschraenkungen.jpg
END:VEVENT
BEGIN:VEVENT
DTSTART;TZID=Europe/Berlin:20210201T080000
DTEND;TZID=Europe/Berlin:20210201T170000
DTSTAMP:20260412T092043
CREATED:20210111T010804Z
LAST-MODIFIED:20210111T010814Z
UID:15490-1612166400-1612198800@katrin-ebner-steiner.de
SUMMARY:Aktuell keine Veranstaltungen
DESCRIPTION:
URL:https://katrin-ebner-steiner.de/veranstaltungen/aktuell-keine-veranstaltungen-3/
LOCATION:Bayern
ATTACH;FMTTYPE=image/jpeg:https://katrin-ebner-steiner.de/wp-content/uploads/2021/01/corona-einschraenkungen.jpg
END:VEVENT
BEGIN:VEVENT
DTSTART;TZID=Europe/Berlin:20210201T080000
DTEND;TZID=Europe/Berlin:20210201T170000
DTSTAMP:20260412T092043
CREATED:20210111T010656Z
LAST-MODIFIED:20210111T010656Z
UID:15487-1612166400-1612198800@katrin-ebner-steiner.de
SUMMARY:Aktuell keine Veranstaltungen
DESCRIPTION:
URL:https://katrin-ebner-steiner.de/veranstaltungen/aktuell-keine-veranstaltungen-2/
LOCATION:Bayern
ATTACH;FMTTYPE=image/jpeg:https://katrin-ebner-steiner.de/wp-content/uploads/2021/01/corona-einschraenkungen.jpg
END:VEVENT
END:VCALENDAR